BEGIN:VCALENDAR
VERSION:2.0
PRODID:-//Apex Racing Lab - ECPv6.15.20//NONSGML v1.0//EN
CALSCALE:GREGORIAN
METHOD:PUBLISH
X-WR-CALNAME:Apex Racing Lab
X-ORIGINAL-URL:https://apexracinglab.com
X-WR-CALDESC:Events for Apex Racing Lab
REFRESH-INTERVAL;VALUE=DURATION:PT1H
X-Robots-Tag:noindex
X-PUBLISHED-TTL:PT1H
BEGIN:VTIMEZONE
TZID:America/New_York
BEGIN:DAYLIGHT
TZOFFSETFROM:-0500
TZOFFSETTO:-0400
TZNAME:EDT
DTSTART:20250309T070000
END:DAYLIGHT
BEGIN:STANDARD
TZOFFSETFROM:-0400
TZOFFSETTO:-0500
TZNAME:EST
DTSTART:20251102T060000
END:STANDARD
BEGIN:DAYLIGHT
TZOFFSETFROM:-0500
TZOFFSETTO:-0400
TZNAME:EDT
DTSTART:20260308T070000
END:DAYLIGHT
BEGIN:STANDARD
TZOFFSETFROM:-0400
TZOFFSETTO:-0500
TZNAME:EST
DTSTART:20261101T060000
END:STANDARD
BEGIN:DAYLIGHT
TZOFFSETFROM:-0500
TZOFFSETTO:-0400
TZNAME:EDT
DTSTART:20270314T070000
END:DAYLIGHT
BEGIN:STANDARD
TZOFFSETFROM:-0400
TZOFFSETTO:-0500
TZNAME:EST
DTSTART:20271107T060000
END:STANDARD
END:VTIMEZONE
BEGIN:VEVENT
DTSTART;TZID=America/New_York:20260110T190000
DTEND;TZID=America/New_York:20260110T200000
DTSTAMP:20260419T105014
CREATED:20260113T192805Z
LAST-MODIFIED:20260113T192805Z
UID:10000007-1768071600-1768075200@apexracinglab.com
SUMMARY:Saturday Night Sprint: Alpine A110 at Brands Hatch
DESCRIPTION:Experience a new challenge every Saturday night! \nThese standalone events are open to all skill levels and feature a rotating lineup of cars and tracks\, built for competitive racing on a week-by-week basis. \nSchedule \nJan. 10 – Alpine A110 GT4 at Brands Hatch \nJan. 17 – Formula 1 at COTA \nJan. 31 – IndyCar at Mid-Ohio \nGet more info and reserve your spot on our Competitions page.
URL:https://apexracinglab.com/event/saturday-night-sprint-alpine-a110-at-brands-hatch/
LOCATION:Apex Racing Lab\, 107 Edinburgh S Dr.\, Suite 106E\, Cary\, NC\, 27511\, United States
END:VEVENT
BEGIN:VEVENT
DTSTART;VALUE=DATE:20260113
DTEND;VALUE=DATE:20260119
DTSTAMP:20260419T105014
CREATED:20260114T053719Z
LAST-MODIFIED:20260114T053719Z
UID:10000015-1768262400-1768780799@apexracinglab.com
SUMMARY:50% Off: Audi R8 GT3 at Nurburgring GP
DESCRIPTION:Try an Audi R8 GT3 at Nurburgring GP-Strecke for 30 minutes at half price! \nEnds: Sunday\, January 18. \nLimit: 1 per person per visit. \nSign Up \nNurburgring GP Track Map
URL:https://apexracinglab.com/event/50-off-audi-r8-gt3-at-nurburgring-gp/
LOCATION:Apex Racing Lab\, 107 Edinburgh S Dr.\, Suite 106E\, Cary\, NC\, 27511\, United States
CATEGORIES:Promotions
END:VEVENT
BEGIN:VEVENT
DTSTART;TZID=America/New_York:20260114T190000
DTEND;TZID=America/New_York:20260114T203000
DTSTAMP:20260419T105014
CREATED:20260113T211245Z
LAST-MODIFIED:20260113T211245Z
UID:10000011-1768417200-1768422600@apexracinglab.com
SUMMARY:Porsche Cup League: Circuit de Spa-Francorchamps
DESCRIPTION:Hit the grid for high-intensity racing! \nThis League Night Series features the Porsche 911 Cup Car! \nFight for the top of the leaderboard in a challenge where driver skill is everything! \n  \nFormat \nPractice: 20 min \nRace 1: 15 min \nRace 2: 15 min (reverse grid) \nImportant: Spots are limited. All drivers must be checked in and assigned to a simulator by 7 PM. Sign up online\, call ahead\, or drop in to secure your spot on the grid. \n  \nSchedule \nJan. 7 – Hockenheimring Baden-Württemberg \nJan. 14 – Circuit de Spa-Francorchamps \nJan. 21 – Nürburgring Grand-Prix-Strecke \nJan. 28 – Postponed due to private event. \nFeb. 4 – KymiRing (Finland GP) \nFeb. 11 – Circuit de Barcelona-Catalunya \nFeb. 18 – Circuit de Lédenon \n  \nPrice \n$50 per driver (or use Membership credits) \nSign Up \nCircuit de Spa-Francorchamps Track Map
URL:https://apexracinglab.com/event/porsche-cup-league-circuit-de-spa-francorchamps/
LOCATION:Apex Racing Lab\, 107 Edinburgh S Dr.\, Suite 106E\, Cary\, NC\, 27511\, United States
CATEGORIES:League Night Series
END:VEVENT
BEGIN:VEVENT
DTSTART;TZID=America/New_York:20260117T190000
DTEND;TZID=America/New_York:20260117T200000
DTSTAMP:20260419T105014
CREATED:20260111T204450Z
LAST-MODIFIED:20260111T204450Z
UID:10000008-1768676400-1768680000@apexracinglab.com
SUMMARY:Sprint Race: F1 at Circuit of the Americas (COTA)
DESCRIPTION:Experience a new challenge every Saturday night! \n  \nPrice: $50 per driver (or use Membership credits) \n  \nFormat  \nPractice: 20 min \nRace 1: 15 min \nRace 2: 15 min (reverse grid) \n  \nImportant: Spots are limited. All drivers must be checked in and assigned to a simulator by 7 PM. Sign up online\, call ahead\, or drop in to secure your spot on the grid. \nThese standalone events are open to all skill levels and feature a rotating lineup of cars and tracks\, built for competitive racing on a week-by-week basis. \n  \nSign Up \n\n\n\nCOTA Track Map
URL:https://apexracinglab.com/event/saturday-night-sprint-f1-at-circuit-of-the-americas-cota/
LOCATION:Apex Racing Lab\, 107 Edinburgh S Dr.\, Suite 106E\, Cary\, NC\, 27511\, United States
END:VEVENT
BEGIN:VEVENT
DTSTART;VALUE=DATE:20260120
DTEND;VALUE=DATE:20260126
DTSTAMP:20260419T105014
CREATED:20260118T021723Z
LAST-MODIFIED:20260118T021723Z
UID:10000019-1768867200-1769385599@apexracinglab.com
SUMMARY:50% Off: GT3 or Hypercar at Daytona Road Course
DESCRIPTION:Take the wheel of a GT3 or Hypercar at the Daytona Road Course for 50% OFF your 30-minute session! \nWhile this is the perfect time to just experience these high-performance machines\, it’s also the ultimate way to dial in your lines and prep for our Daytona 24-in-24 event on Saturday\, January 24\, 7-10 PM. \nEnds: Sunday\, January 25. \nLimit: 1 per person per visit. \nSign Up \nDaytona Road Course Track Map
URL:https://apexracinglab.com/event/50-off-gt3-hypercar-daytona-road-course/
LOCATION:Apex Racing Lab\, 107 Edinburgh S Dr.\, Suite 106E\, Cary\, NC\, 27511\, United States
CATEGORIES:Promotions
END:VEVENT
BEGIN:VEVENT
DTSTART;TZID=America/New_York:20260121T190000
DTEND;TZID=America/New_York:20260121T203000
DTSTAMP:20260419T105014
CREATED:20260113T213135Z
LAST-MODIFIED:20260113T213135Z
UID:10000012-1769022000-1769027400@apexracinglab.com
SUMMARY:Porsche Cup League: Nürburgring GP
DESCRIPTION:Hit the grid for high-intensity racing! \nThis League Night Series features the Porsche 911 Cup Car! \nFight for the top of the leaderboard in a challenge where driver skill is everything! \n  \nFormat \nPractice: 20 min \nRace 1: 15 min \nRace 2: 15 min (reverse grid) \nImportant: Spots are limited. All drivers must be checked in and assigned to a simulator by 7 PM. Sign up online\, call ahead\, or drop in to secure your spot on the grid. \n  \nSchedule \nJan. 7 – Hockenheimring Baden-Württemberg \nJan. 14 – Circuit de Spa-Francorchamps \nJan. 21 – Nürburgring Grand-Prix-Strecke \nJan. 28 – Postponed due to private event. \nFeb. 4 – KymiRing (Finland GP) \nFeb. 11 – Circuit de Barcelona-Catalunya \nFeb. 18 – Circuit de Lédenon \n  \nPrice \n$50 per driver (or use Membership credits) \nSign Up \nNürburgring Grand-Prix-Strecke Track Map
URL:https://apexracinglab.com/event/porsche-cup-league-nurburgring-gp/
LOCATION:Apex Racing Lab\, 107 Edinburgh S Dr.\, Suite 106E\, Cary\, NC\, 27511\, United States
CATEGORIES:League Night Series
END:VEVENT
BEGIN:VEVENT
DTSTART;TZID=America/New_York:20260124T190000
DTEND;TZID=America/New_York:20260124T220000
DTSTAMP:20260419T105014
CREATED:20260111T215503Z
LAST-MODIFIED:20260111T215503Z
UID:10000010-1769281200-1769292000@apexracinglab.com
SUMMARY:Daytona 24-in-24
DESCRIPTION:Experience the endurance legend. Compete in a high-stakes\, multi-class simulation of the Rolex 24 at Daytona. \nTicket Details \nPrice: $50 per person (Note: Member credits not applicable) \nIncludes: \nOne Entry into the multiclass (Hypercars and GT3s) event. \nOne Featured Drink: Choose from our Angel’s Envy specialty menu below. \n  \nRace Setup \nChoose whether you want to race in the Hypercar or a GT3 division. \nEach session simulates a full 24-hour cycle over the course of a 6-minute practice followed by a 24-minute race from the bright afternoon start\, through the focus of night driving\, and back into the light for an afternoon finish. \nTop finishers advance to a second 24-minute championship sprint. \n  \nFeatured Drinks \nWe have cocktails made with Angel’s Envy Kentucky Bourbon available all day for $15 each! One is included with your race ticket. \nPaper Plane: A sophisticated\, bittersweet blend of Angel’s Envy\, Aperol\, Amaro\, and fresh lemon. \nOld Fashioned: The timeless classic—Angel’s Envy stirred with aromatic bitters and a hint of citrus. \nPeach Smash: A crisp and refreshing mix of Angel’s Envy\, ripe peach\, and cooling fresh mint. \n  \nPrizes \nWinners will take home up to a $100 gift card! \nLimited number of seats available. Secure your seat and car class today! \nSign Up
URL:https://apexracinglab.com/event/daytona-24-challenge/
LOCATION:Apex Racing Lab\, 107 Edinburgh S Dr.\, Suite 106E\, Cary\, NC\, 27511\, United States
CATEGORIES:Special Events
END:VEVENT
BEGIN:VEVENT
DTSTART;TZID=America/New_York:20260131T190000
DTEND;TZID=America/New_York:20260131T200000
DTSTAMP:20260419T105014
CREATED:20260111T212152Z
LAST-MODIFIED:20260111T212152Z
UID:10000009-1769886000-1769889600@apexracinglab.com
SUMMARY:Sprint Race: IndyCar at Mid-Ohio
DESCRIPTION:Experience a new challenge every Saturday night! \n  \nPrice: $50 per driver (or use Membership credits) \n  \nFormat  \nPractice: 20 min \nRace 1: 15 min \nRace 2: 15 min (reverse grid) \n  \nImportant: Spots are limited. All drivers must be checked in and assigned to a simulator by 7 PM. Sign up online\, call ahead\, or drop in to secure your spot on the grid. \nThese standalone events are open to all skill levels and feature a rotating lineup of cars and tracks\, built for competitive racing on a week-by-week basis. \n  \nSign Up \n\n\nMid-Ohio Track Map
URL:https://apexracinglab.com/event/sprint-race-indycar-at-mid-ohio/
LOCATION:Apex Racing Lab\, 107 Edinburgh S Dr.\, Suite 106E\, Cary\, NC\, 27511\, United States
CATEGORIES:Saturday Night Sprints
END:VEVENT
END:VCALENDAR