BEGIN:VCALENDAR
VERSION:2.0
PRODID:-//Apex Racing Lab - ECPv6.15.20//NONSGML v1.0//EN
CALSCALE:GREGORIAN
METHOD:PUBLISH
X-WR-CALNAME:Apex Racing Lab
X-ORIGINAL-URL:https://apexracinglab.com
X-WR-CALDESC:Events for Apex Racing Lab
REFRESH-INTERVAL;VALUE=DURATION:PT1H
X-Robots-Tag:noindex
X-PUBLISHED-TTL:PT1H
BEGIN:VTIMEZONE
TZID:America/New_York
BEGIN:DAYLIGHT
TZOFFSETFROM:-0500
TZOFFSETTO:-0400
TZNAME:EDT
DTSTART:20250309T070000
END:DAYLIGHT
BEGIN:STANDARD
TZOFFSETFROM:-0400
TZOFFSETTO:-0500
TZNAME:EST
DTSTART:20251102T060000
END:STANDARD
BEGIN:DAYLIGHT
TZOFFSETFROM:-0500
TZOFFSETTO:-0400
TZNAME:EDT
DTSTART:20260308T070000
END:DAYLIGHT
BEGIN:STANDARD
TZOFFSETFROM:-0400
TZOFFSETTO:-0500
TZNAME:EST
DTSTART:20261101T060000
END:STANDARD
BEGIN:DAYLIGHT
TZOFFSETFROM:-0500
TZOFFSETTO:-0400
TZNAME:EDT
DTSTART:20270314T070000
END:DAYLIGHT
BEGIN:STANDARD
TZOFFSETFROM:-0400
TZOFFSETTO:-0500
TZNAME:EST
DTSTART:20271107T060000
END:STANDARD
END:VTIMEZONE
BEGIN:VEVENT
DTSTART;VALUE=DATE:20260203
DTEND;VALUE=DATE:20260209
DTSTAMP:20260423T044054
CREATED:20260204T185505Z
LAST-MODIFIED:20260204T232902Z
UID:10000020-1770076800-1770595199@apexracinglab.com
SUMMARY:50% Off: Mazda MX-5 at Anglesey Circuit
DESCRIPTION:Try a Mazda MX-5 at Anglesey Circuit for 30 minutes at half price! \nEnds: Sunday\, February 8 \nLimit: 1 per person per visit. \nView the track map. \nSign Up
URL:https://apexracinglab.com/event/50-off-mazda-mx5-anglesey-circuit/
LOCATION:Apex Racing Lab\, 107 Edinburgh S Dr.\, Suite 106E\, Cary\, NC\, 27511\, United States
CATEGORIES:Promotions
END:VEVENT
BEGIN:VEVENT
DTSTART;TZID=America/New_York:20260204T190000
DTEND;TZID=America/New_York:20260204T203000
DTSTAMP:20260423T044054
CREATED:20260118T014558Z
LAST-MODIFIED:20260204T224905Z
UID:10000018-1770231600-1770237000@apexracinglab.com
SUMMARY:Porsche Cup League: KymiRing (Finland GP)
DESCRIPTION:Hit the grid for high-intensity racing! \nThis League Night Series features the Porsche 911 Cup Car! \nFight for the top of the leaderboard in a challenge where driver skill is everything! \n  \nFormat \nPractice: 20 min \nRace 1: 15 min \nRace 2: 15 min (reverse grid) \nImportant: Spots are limited. All drivers must be checked in and assigned to a simulator by 7 PM. Sign up online\, call ahead\, or drop in to secure your spot on the grid. \n  \nSchedule \nJan. 7 – Hockenheimring Baden-Württemberg \nJan. 14 – Circuit de Spa-Francorchamps \nJan. 21 – Nürburgring Grand-Prix-Strecke \nJan. 28 – Postponed due to private event. \nFeb. 4 – KymiRing (Finland GP) \nFeb. 11 – Circuit de Barcelona-Catalunya \nFeb. 18 – Circuit de Lédenon \n  \nPrice \n$50 per driver (or use Membership credits) \nSign Up \nKymiRing Track Map
URL:https://apexracinglab.com/event/porsche-cup-league-kymiring-finland-gp-2/
LOCATION:Apex Racing Lab\, 107 Edinburgh S Dr.\, Suite 106E\, Cary\, NC\, 27511\, United States
CATEGORIES:League Night Series
END:VEVENT
BEGIN:VEVENT
DTSTART;TZID=America/New_York:20260207T190000
DTEND;TZID=America/New_York:20260207T200000
DTSTAMP:20260423T044054
CREATED:20260204T234640Z
LAST-MODIFIED:20260204T235110Z
UID:10000030-1770490800-1770494400@apexracinglab.com
SUMMARY:Saturday Night Sprint: Mazda MX-5 at Anglesey
DESCRIPTION:Experience a new challenge every Saturday night! \nThese standalone events are open to all skill levels and feature a rotating lineup of cars and tracks\, built for competitive racing on a week-by-week basis.\nSchedule \nFeb. 7 – Mazda-MX-5 at Anglesey \nFeb. 14 – Alpine A110 GT4 at Donington GP \nFeb. 21 – McLaren 650s at Le Mans Bugatti \nFeb. 28 – F1 at Suzuka \n  \nReserve Your Seat
URL:https://apexracinglab.com/event/saturday-night-sprint-mazda-mx5-anglesey/
LOCATION:Apex Racing Lab\, 107 Edinburgh S Dr.\, Suite 106E\, Cary\, NC\, 27511\, United States
CATEGORIES:Saturday Night Sprints
END:VEVENT
BEGIN:VEVENT
DTSTART;VALUE=DATE:20260210
DTEND;VALUE=DATE:20260216
DTSTAMP:20260423T044054
CREATED:20260210T171347Z
LAST-MODIFIED:20260210T171347Z
UID:10000035-1770681600-1771199999@apexracinglab.com
SUMMARY:50% Off: Alpine A110 GT4 at Donington Park
DESCRIPTION:Try an Alpine A110 GT4 at Donington Park for 30 minutes at half price! \nEnds: Sunday\, February 15 \nLimit: 1 per person per visit. \nView the track map. \nSign Up
URL:https://apexracinglab.com/event/50-off-alpine-a110-gt4-at-donington-park/
LOCATION:Apex Racing Lab\, 107 Edinburgh S Dr.\, Suite 106E\, Cary\, NC\, 27511\, United States
CATEGORIES:Promotions
END:VEVENT
BEGIN:VEVENT
DTSTART;TZID=America/New_York:20260211T190000
DTEND;TZID=America/New_York:20260211T203000
DTSTAMP:20260423T044054
CREATED:20260113T213309Z
LAST-MODIFIED:20260204T235431Z
UID:10000013-1770836400-1770841800@apexracinglab.com
SUMMARY:Porsche Cup League: Circuit de Barcelona-Catalunya
DESCRIPTION:Hit the grid for high-intensity racing! \nThis League Night Series features the Porsche 911 Cup Car! \nFight for the top of the leaderboard in a challenge where driver skill is everything! \n  \nFormat \nPractice: 20 min \nRace 1: 15 min \nRace 2: 15 min (reverse grid) \nImportant: Spots are limited. All drivers must be checked in and assigned to a simulator by 7 PM. Sign up online\, call ahead\, or drop in to secure your spot on the grid. \n  \nSchedule \nJan. 7 – Hockenheimring Baden-Württemberg \nJan. 14 – Circuit de Spa-Francorchamps \nJan. 21 – Nürburgring Grand-Prix-Strecke \nJan. 28 – Postponed due to private event. \nFeb. 4 – KymiRing (Finland GP) \nFeb. 11 – Circuit de Barcelona-Catalunya \nFeb. 18 – Circuit de Lédenon \n  \nPrice \n$50 per driver (or use Membership credits) \nSign Up
URL:https://apexracinglab.com/event/porsche-cup-league-kymiring-finland-gp/
LOCATION:Apex Racing Lab\, 107 Edinburgh S Dr.\, Suite 106E\, Cary\, NC\, 27511\, United States
CATEGORIES:League Night Series
END:VEVENT
BEGIN:VEVENT
DTSTART;TZID=America/New_York:20260213T190000
DTEND;TZID=America/New_York:20260213T220000
DTSTAMP:20260423T044054
CREATED:20260204T191516Z
LAST-MODIFIED:20260211T215311Z
UID:10000021-1771009200-1771020000@apexracinglab.com
SUMMARY:Girls Night Out
DESCRIPTION:Gather your girlfriends for some high-speed fun and kick off your Galentine’s plans with us! We’re hosting a Girls Night Out that’s all about fast laps and great company! \n🎟️ $20 per person \n🏁 20 minutes of sim time \n🥂 1 complimentary glass of Prosecco (cheers to that!) \nNo experience? No problem. It’s all about the vibes\, the laughs\, and the bragging rights! \nWhile the night is a celebration of the girls\, we aren’t gatekeeping the grid—everyone is welcome to jump in a sim and join the party. The $20 deal is open to anyone! \nSign Up
URL:https://apexracinglab.com/event/girls-night-out/
LOCATION:Apex Racing Lab\, 107 Edinburgh S Dr.\, Suite 106E\, Cary\, NC\, 27511\, United States
CATEGORIES:Special Events
END:VEVENT
BEGIN:VEVENT
DTSTART;TZID=America/New_York:20260214T190000
DTEND;TZID=America/New_York:20260214T200000
DTSTAMP:20260423T044054
CREATED:20260204T235055Z
LAST-MODIFIED:20260204T235055Z
UID:10000031-1771095600-1771099200@apexracinglab.com
SUMMARY:Saturday Night Sprint: Alpine A110 GT4 at Donington Park
DESCRIPTION:Experience a new challenge every Saturday night! \nThese standalone events are open to all skill levels and feature a rotating lineup of cars and tracks\, built for competitive racing on a week-by-week basis. \nSchedule \nFeb. 7 – Mazda-MX-5 at Anglesey \nFeb. 14 – Alpine A110 GT4 at Donington Park \nFeb. 21 – McLaren 650s at Le Mans Bugatti \nFeb. 28 – F1 at Suzuka \n  \nReserve Your Seat
URL:https://apexracinglab.com/event/saturday-night-sprint-gt4-donington-park/
LOCATION:Apex Racing Lab\, 107 Edinburgh S Dr.\, Suite 106E\, Cary\, NC\, 27511\, United States
CATEGORIES:Saturday Night Sprints
END:VEVENT
BEGIN:VEVENT
DTSTART;VALUE=DATE:20260217
DTEND;VALUE=DATE:20260223
DTSTAMP:20260423T044054
CREATED:20260219T214708Z
LAST-MODIFIED:20260219T214708Z
UID:10000041-1771286400-1771804799@apexracinglab.com
SUMMARY:50% Off: McLaren 650s GT3 at Le Mans Bugatti Circuit
DESCRIPTION:Try a McLaren 650s GT3 at Le Mans Bugatti Circuit for 30 minutes at half price! \nEnds: Sunday\, February 22 \nLimit: 1 per person per visit. \nView the track map. \nSign Up
URL:https://apexracinglab.com/event/50-off-mclaren-le-mans-bugatti-circuit/
LOCATION:Apex Racing Lab\, 107 Edinburgh S Dr.\, Suite 106E\, Cary\, NC\, 27511\, United States
CATEGORIES:Promotions
END:VEVENT
BEGIN:VEVENT
DTSTART;TZID=America/New_York:20260218T180000
DTEND;TZID=America/New_York:20260218T190000
DTSTAMP:20260423T044054
CREATED:20260211T212953Z
LAST-MODIFIED:20260211T213826Z
UID:10000036-1771437600-1771441200@apexracinglab.com
SUMMARY:Meet and Greet: USF2000 Driver\, Wesley Gundler
DESCRIPTION:Join us for this FREE event with ENVE Motorsports’ first official driver for the 2026 USF2000 Championship\, Wesley “Top Gund” Gundler! \nWesley is preparing for his debut in the USF Pro Championships. This is your chance to meet him before he officially takes the grid. \n“Wesley showed immediate pace during our recent test at The Thermal Club. His natural talent and work ethic are exactly what we were looking for as we build our program\,” stated the team. “We are confident that Wesley will be a strong contender in the 2026 USF2000 Championship.” (Source) \nCatch him in action immediately after as he competes in League Night. \nStick around to watch or join the race yourself! \n  \nInstagram: @wes_gundler | @envemotorsports | @usfprochampionships \nUSF Schedule
URL:https://apexracinglab.com/event/meet-greet-usf2000-wesley-gundler/
LOCATION:Apex Racing Lab\, 107 Edinburgh S Dr.\, Suite 106E\, Cary\, NC\, 27511\, United States
CATEGORIES:Special Events
ATTACH;FMTTYPE=image/png:https://apexracinglab.com/wp-content/uploads/2026/02/usf2000-driver-e1770844740333.png
END:VEVENT
BEGIN:VEVENT
DTSTART;TZID=America/New_York:20260218T190000
DTEND;TZID=America/New_York:20260218T203000
DTSTAMP:20260423T044054
CREATED:20260113T213620Z
LAST-MODIFIED:20260211T214410Z
UID:10000014-1771441200-1771446600@apexracinglab.com
SUMMARY:Porsche Cup League: Circuit de Lédenon
DESCRIPTION:Hit the grid for high-intensity racing! \nThis League Night Series features the Porsche 911 Cup Car! \nFight for the top of the leaderboard in a challenge where driver skill is everything! \n  \nFormat\nPractice: 20 min \nRace 1: 15 min \nRace 2: 15 min (reverse grid) \nImportant: Spots are limited. All drivers must be checked in and assigned to a simulator by 7 PM. Sign up online\, call ahead\, or drop in to secure your spot on the grid. \n  \nSpecial Guest\nOn February 18\, meet ENVE Motorsports’ new 2026 USF2000 driver\, Wesley “Top Gund” Gundler\, at the FREE Meet and Greet at 6PM. Catch him in action immediately after as he competes in League Night. Stick around to watch or join the race yourself! \n  \nSchedule\nJan. 7 – Hockenheimring Baden-Württemberg \nJan. 14 – Circuit de Spa-Francorchamps \nJan. 21 – Nürburgring Grand-Prix-Strecke \nJan. 28 – Postponed due to private event. \nFeb. 4 – KymiRing (Finland GP) \nFeb. 11 – Circuit de Barcelona-Catalunya \nFeb. 18 – Circuit de Lédenon \n  \nPrice\n$50 per driver (or use Membership credits) \nReserve Your Seat
URL:https://apexracinglab.com/event/porsche-cup-league-circuit-de-ledenon/
LOCATION:Apex Racing Lab\, 107 Edinburgh S Dr.\, Suite 106E\, Cary\, NC\, 27511\, United States
CATEGORIES:League Night Series
END:VEVENT
BEGIN:VEVENT
DTSTART;TZID=America/New_York:20260221T190000
DTEND;TZID=America/New_York:20260221T200000
DTSTAMP:20260423T044054
CREATED:20260204T235459Z
LAST-MODIFIED:20260204T235748Z
UID:10000032-1771700400-1771704000@apexracinglab.com
SUMMARY:Saturday Night Sprint: McLaren 650s at Le Mans Bugatti Circuit
DESCRIPTION:Experience a new challenge every Saturday night! \nThese standalone events are open to all skill levels and feature a rotating lineup of cars and tracks\, built for competitive racing on a week-by-week basis. \nSchedule \nFeb. 7 – Mazda-MX-5 at Anglesey \nFeb. 14 – Alpine A110 GT4 at Donington Park \nFeb. 21 – McLaren 650s at Le Mans Bugatti \nFeb. 28 – F1 at Suzuka \n  \nReserve Your Seat
URL:https://apexracinglab.com/event/saturday-night-sprint-mclaren-650s-gt3-le-mans-bugatti-circuit/
LOCATION:Apex Racing Lab\, 107 Edinburgh S Dr.\, Suite 106E\, Cary\, NC\, 27511\, United States
CATEGORIES:Saturday Night Sprints
END:VEVENT
BEGIN:VEVENT
DTSTART;VALUE=DATE:20260224
DTEND;VALUE=DATE:20260302
DTSTAMP:20260423T044054
CREATED:20260224T173332Z
LAST-MODIFIED:20260224T184628Z
UID:10000042-1771891200-1772409599@apexracinglab.com
SUMMARY:50% Off: F1 at Suzuka
DESCRIPTION:Try Formula 1 at Suzuka for 30 minutes at half price! \nEnds: Sunday\, March 1 \nLimit: 1 per person per visit. \nView the track map. \nSign Up
URL:https://apexracinglab.com/event/50-off-f1-suzuka/
LOCATION:Apex Racing Lab\, 107 Edinburgh S Dr.\, Suite 106E\, Cary\, NC\, 27511\, United States
CATEGORIES:Promotions
END:VEVENT
BEGIN:VEVENT
DTSTART;TZID=America/New_York:20260224T190000
DTEND;TZID=America/New_York:20260224T203000
DTSTAMP:20260423T044054
CREATED:20260204T230921Z
LAST-MODIFIED:20260204T230957Z
UID:10000022-1771959600-1771965000@apexracinglab.com
SUMMARY:Hypercar League: Watkins Glen
DESCRIPTION:Hit the grid for high-intensity racing! Fight for the top of the leaderboard in a challenge where driver skill is everything! \n  \nThis League Night Series features the Hypercar! \nChoose between the Ferrari 499P and the Porsche 963LMDH. \n  \nFormat \nPractice: 20 min \nRace 1: 15 min \nRace 2: 15 min (reverse grid) \nImportant: Spots are limited. All drivers must be checked in and assigned to a simulator by 7 PM. Sign up online\, call ahead\, or drop in to secure your spot on the grid. \n  \nSchedule \nFeb. 24 – Watkins Glen \nMar. 3 – Daytona Road Course \nMar. 10 – Canadian Tire Motorsport Park \nMar. 17 – Sebring International Raceway \nMar. 24 – Road America \nMar. 31 – Road Atlanta \n  \nPrice \n$50 per driver (or use Membership credits) \nReserve Your Seat
URL:https://apexracinglab.com/event/hypercar-league-watkins-glen/
LOCATION:Apex Racing Lab\, 107 Edinburgh S Dr.\, Suite 106E\, Cary\, NC\, 27511\, United States
CATEGORIES:League Night Series
END:VEVENT
BEGIN:VEVENT
DTSTART;TZID=America/New_York:20260228T190000
DTEND;TZID=America/New_York:20260228T200000
DTSTAMP:20260423T044054
CREATED:20260204T235843Z
LAST-MODIFIED:20260204T235843Z
UID:10000034-1772305200-1772308800@apexracinglab.com
SUMMARY:Saturday Night Sprint: F1 at Suzuka
DESCRIPTION:Experience a new challenge every Saturday night! \nThese standalone events are open to all skill levels and feature a rotating lineup of cars and tracks\, built for competitive racing on a week-by-week basis. \nSchedule \nFeb. 7 – Mazda-MX-5 at Anglesey \nFeb. 14 – Alpine A110 GT4 at Donington Park \nFeb. 21 – McLaren 650s at Le Mans Bugatti \nFeb. 28 – F1 at Suzuka \n  \nReserve Your Seat
URL:https://apexracinglab.com/event/saturday-night-sprint-f1-suzuka/
LOCATION:Apex Racing Lab\, 107 Edinburgh S Dr.\, Suite 106E\, Cary\, NC\, 27511\, United States
CATEGORIES:Saturday Night Sprints
END:VEVENT
END:VCALENDAR