BEGIN:VCALENDAR
VERSION:2.0
PRODID:-//Apex Racing Lab - ECPv6.15.20//NONSGML v1.0//EN
CALSCALE:GREGORIAN
METHOD:PUBLISH
X-ORIGINAL-URL:https://apexracinglab.com
X-WR-CALDESC:Events for Apex Racing Lab
REFRESH-INTERVAL;VALUE=DURATION:PT1H
X-Robots-Tag:noindex
X-PUBLISHED-TTL:PT1H
BEGIN:VTIMEZONE
TZID:America/New_York
BEGIN:DAYLIGHT
TZOFFSETFROM:-0500
TZOFFSETTO:-0400
TZNAME:EDT
DTSTART:20250309T070000
END:DAYLIGHT
BEGIN:STANDARD
TZOFFSETFROM:-0400
TZOFFSETTO:-0500
TZNAME:EST
DTSTART:20251102T060000
END:STANDARD
BEGIN:DAYLIGHT
TZOFFSETFROM:-0500
TZOFFSETTO:-0400
TZNAME:EDT
DTSTART:20260308T070000
END:DAYLIGHT
BEGIN:STANDARD
TZOFFSETFROM:-0400
TZOFFSETTO:-0500
TZNAME:EST
DTSTART:20261101T060000
END:STANDARD
BEGIN:DAYLIGHT
TZOFFSETFROM:-0500
TZOFFSETTO:-0400
TZNAME:EDT
DTSTART:20270314T070000
END:DAYLIGHT
BEGIN:STANDARD
TZOFFSETFROM:-0400
TZOFFSETTO:-0500
TZNAME:EST
DTSTART:20271107T060000
END:STANDARD
END:VTIMEZONE
BEGIN:VEVENT
DTSTART;TZID=America/New_York:20260701T183000
DTEND;TZID=America/New_York:20260701T200000
DTSTAMP:20260423T060513
CREATED:20260415T231611Z
LAST-MODIFIED:20260422T224157Z
UID:10000616-1782930600-1782936000@apexracinglab.com
SUMMARY:Trivia Night
DESCRIPTION:Every Wednesday Night\nHosted by Anthony Palladino of Set the Bar Services \n  \nTest your knowledge\, enjoy friendly competition\, and play for prizes! Trivia is free to play and open to all! \n  \nAll day long\, enjoy $4 Hard Ciders and NC Beers. \n  \nGrab your team\, sip something great\, and set the bar for a fun night out! \n  \nWant to make a full night of it? Guests are welcome to come early and book a sim to play before trivia begins!\nNOTE: Reserving a sim is not required to attend trivia.
URL:https://apexracinglab.com/event/trivia-night/2026-07-01/
LOCATION:Apex Racing Lab\, 107 Edinburgh S Dr.\, Suite 106E\, Cary\, NC\, 27511\, United States
CATEGORIES:Trivia Nights
ORGANIZER;CN="Set the Bar Services":MAILTO:setthebarnc@gmail.com
END:VEVENT
BEGIN:VEVENT
DTSTART;TZID=America/New_York:20260705T094500
DTEND;TZID=America/New_York:20260705T120000
DTSTAMP:20260423T060513
CREATED:20260225T201430Z
LAST-MODIFIED:20260225T201911Z
UID:10000050-1783244700-1783252800@apexracinglab.com
SUMMARY:F1 Watch Party: British Grand Prix
DESCRIPTION:Race Start Time: 10 AM \nTrack: Silverstone Circuit \nWatch the Formula 1 Pirelli British Grand Prix LIVE with other F1 fans\, then hop into our simulators and tackle the same track! \nWe’ve got every track on the current F1 calendar…and maybe even a few bonus tracks\, if you’re feeling ambitious. \nAt check-in\, ask our crew how you can create a free driver profile\, see your name on our leaderboard\, and get your lap times emailed to you. \nFollow us on Instagram and Facebook for event details and updates as race day gets closer. \nAll skill levels welcome. \nReserve Your Sim
URL:https://apexracinglab.com/event/f1-watch-party-british-grand-prix/
LOCATION:Apex Racing Lab\, 107 Edinburgh S Dr.\, Suite 106E\, Cary\, NC\, 27511\, United States
CATEGORIES:Special Events,Watch Parties
END:VEVENT
BEGIN:VEVENT
DTSTART;TZID=America/New_York:20260708T183000
DTEND;TZID=America/New_York:20260708T200000
DTSTAMP:20260423T060513
CREATED:20260415T231611Z
LAST-MODIFIED:20260422T224157Z
UID:10000617-1783535400-1783540800@apexracinglab.com
SUMMARY:Trivia Night
DESCRIPTION:Every Wednesday Night\nHosted by Anthony Palladino of Set the Bar Services \n  \nTest your knowledge\, enjoy friendly competition\, and play for prizes! Trivia is free to play and open to all! \n  \nAll day long\, enjoy $4 Hard Ciders and NC Beers. \n  \nGrab your team\, sip something great\, and set the bar for a fun night out! \n  \nWant to make a full night of it? Guests are welcome to come early and book a sim to play before trivia begins!\nNOTE: Reserving a sim is not required to attend trivia.
URL:https://apexracinglab.com/event/trivia-night/2026-07-08/
LOCATION:Apex Racing Lab\, 107 Edinburgh S Dr.\, Suite 106E\, Cary\, NC\, 27511\, United States
CATEGORIES:Trivia Nights
ORGANIZER;CN="Set the Bar Services":MAILTO:setthebarnc@gmail.com
END:VEVENT
BEGIN:VEVENT
DTSTART;TZID=America/New_York:20260715T183000
DTEND;TZID=America/New_York:20260715T200000
DTSTAMP:20260423T060513
CREATED:20260415T231611Z
LAST-MODIFIED:20260422T224157Z
UID:10000618-1784140200-1784145600@apexracinglab.com
SUMMARY:Trivia Night
DESCRIPTION:Every Wednesday Night\nHosted by Anthony Palladino of Set the Bar Services \n  \nTest your knowledge\, enjoy friendly competition\, and play for prizes! Trivia is free to play and open to all! \n  \nAll day long\, enjoy $4 Hard Ciders and NC Beers. \n  \nGrab your team\, sip something great\, and set the bar for a fun night out! \n  \nWant to make a full night of it? Guests are welcome to come early and book a sim to play before trivia begins!\nNOTE: Reserving a sim is not required to attend trivia.
URL:https://apexracinglab.com/event/trivia-night/2026-07-15/
LOCATION:Apex Racing Lab\, 107 Edinburgh S Dr.\, Suite 106E\, Cary\, NC\, 27511\, United States
CATEGORIES:Trivia Nights
ORGANIZER;CN="Set the Bar Services":MAILTO:setthebarnc@gmail.com
END:VEVENT
BEGIN:VEVENT
DTSTART;TZID=America/New_York:20260719T084500
DTEND;TZID=America/New_York:20260719T110000
DTSTAMP:20260423T060513
CREATED:20260225T202208Z
LAST-MODIFIED:20260227T202246Z
UID:10000051-1784450700-1784458800@apexracinglab.com
SUMMARY:F1 Watch Party: Belgian Grand Prix
DESCRIPTION:Race Start Time: 9 AM \nTrack: Circuit de Spa-Francorchamps\n \nWatch the Formula 1 Moët & Chandon Belgian Grand Prix LIVE with other F1 fans\, then hop into our simulators and tackle the same track! \nWe’ve got every track on the current F1 calendar…and maybe even a few bonus tracks\, if you’re feeling ambitious. \nAt check-in\, ask our crew how you can create a free driver profile\, see your name on our leaderboard\, and get your lap times emailed to you. \nFollow us on Instagram and Facebook for event details and updates as race day gets closer. \nAll skill levels welcome. \nReserve Your Sim
URL:https://apexracinglab.com/event/f1-watch-party-belgian-grand-prix/
LOCATION:Apex Racing Lab\, 107 Edinburgh S Dr.\, Suite 106E\, Cary\, NC\, 27511\, United States
CATEGORIES:Special Events,Watch Parties
END:VEVENT
BEGIN:VEVENT
DTSTART;TZID=America/New_York:20260722T183000
DTEND;TZID=America/New_York:20260722T200000
DTSTAMP:20260423T060513
CREATED:20260415T231611Z
LAST-MODIFIED:20260422T224157Z
UID:10000619-1784745000-1784750400@apexracinglab.com
SUMMARY:Trivia Night
DESCRIPTION:Every Wednesday Night\nHosted by Anthony Palladino of Set the Bar Services \n  \nTest your knowledge\, enjoy friendly competition\, and play for prizes! Trivia is free to play and open to all! \n  \nAll day long\, enjoy $4 Hard Ciders and NC Beers. \n  \nGrab your team\, sip something great\, and set the bar for a fun night out! \n  \nWant to make a full night of it? Guests are welcome to come early and book a sim to play before trivia begins!\nNOTE: Reserving a sim is not required to attend trivia.
URL:https://apexracinglab.com/event/trivia-night/2026-07-22/
LOCATION:Apex Racing Lab\, 107 Edinburgh S Dr.\, Suite 106E\, Cary\, NC\, 27511\, United States
CATEGORIES:Trivia Nights
ORGANIZER;CN="Set the Bar Services":MAILTO:setthebarnc@gmail.com
END:VEVENT
BEGIN:VEVENT
DTSTART;TZID=America/New_York:20260726T084500
DTEND;TZID=America/New_York:20260726T110000
DTSTAMP:20260423T060513
CREATED:20260225T202337Z
LAST-MODIFIED:20260225T202919Z
UID:10000052-1785055500-1785063600@apexracinglab.com
SUMMARY:F1 Watch Party: Hungarian Grand Prix
DESCRIPTION:Race Start Time: 9 AM \nTrack: The Hungaroring\n \nWatch the Formula 1 AWS Hungarian Grand Prix LIVE with other F1 fans\, then hop into our simulators and tackle the same track! \nWe’ve got every track on the current F1 calendar…and maybe even a few bonus tracks\, if you’re feeling ambitious. \nAt check-in\, ask our crew how you can create a free driver profile\, see your name on our leaderboard\, and get your lap times emailed to you. \nFollow us on Instagram and Facebook for event details and updates as race day gets closer. \nAll skill levels welcome. \nReserve Your Sim
URL:https://apexracinglab.com/event/f1-watch-party-hungarian-grand-prix/
LOCATION:Apex Racing Lab\, 107 Edinburgh S Dr.\, Suite 106E\, Cary\, NC\, 27511\, United States
CATEGORIES:Special Events,Watch Parties
END:VEVENT
BEGIN:VEVENT
DTSTART;TZID=America/New_York:20260729T183000
DTEND;TZID=America/New_York:20260729T200000
DTSTAMP:20260423T060513
CREATED:20260415T231611Z
LAST-MODIFIED:20260422T224157Z
UID:10000620-1785349800-1785355200@apexracinglab.com
SUMMARY:Trivia Night
DESCRIPTION:Every Wednesday Night\nHosted by Anthony Palladino of Set the Bar Services \n  \nTest your knowledge\, enjoy friendly competition\, and play for prizes! Trivia is free to play and open to all! \n  \nAll day long\, enjoy $4 Hard Ciders and NC Beers. \n  \nGrab your team\, sip something great\, and set the bar for a fun night out! \n  \nWant to make a full night of it? Guests are welcome to come early and book a sim to play before trivia begins!\nNOTE: Reserving a sim is not required to attend trivia.
URL:https://apexracinglab.com/event/trivia-night/2026-07-29/
LOCATION:Apex Racing Lab\, 107 Edinburgh S Dr.\, Suite 106E\, Cary\, NC\, 27511\, United States
CATEGORIES:Trivia Nights
ORGANIZER;CN="Set the Bar Services":MAILTO:setthebarnc@gmail.com
END:VEVENT
END:VCALENDAR