BEGIN:VCALENDAR
VERSION:2.0
PRODID:-//Apex Racing Lab - ECPv6.15.20//NONSGML v1.0//EN
CALSCALE:GREGORIAN
METHOD:PUBLISH
X-WR-CALNAME:Apex Racing Lab
X-ORIGINAL-URL:https://apexracinglab.com
X-WR-CALDESC:Events for Apex Racing Lab
REFRESH-INTERVAL;VALUE=DURATION:PT1H
X-Robots-Tag:noindex
X-PUBLISHED-TTL:PT1H
BEGIN:VTIMEZONE
TZID:America/New_York
BEGIN:DAYLIGHT
TZOFFSETFROM:-0500
TZOFFSETTO:-0400
TZNAME:EDT
DTSTART:20250309T070000
END:DAYLIGHT
BEGIN:STANDARD
TZOFFSETFROM:-0400
TZOFFSETTO:-0500
TZNAME:EST
DTSTART:20251102T060000
END:STANDARD
BEGIN:DAYLIGHT
TZOFFSETFROM:-0500
TZOFFSETTO:-0400
TZNAME:EDT
DTSTART:20260308T070000
END:DAYLIGHT
BEGIN:STANDARD
TZOFFSETFROM:-0400
TZOFFSETTO:-0500
TZNAME:EST
DTSTART:20261101T060000
END:STANDARD
BEGIN:DAYLIGHT
TZOFFSETFROM:-0500
TZOFFSETTO:-0400
TZNAME:EDT
DTSTART:20270314T070000
END:DAYLIGHT
BEGIN:STANDARD
TZOFFSETFROM:-0400
TZOFFSETTO:-0500
TZNAME:EST
DTSTART:20271107T060000
END:STANDARD
END:VTIMEZONE
BEGIN:VEVENT
DTSTART;TZID=America/New_York:20260805T183000
DTEND;TZID=America/New_York:20260805T200000
DTSTAMP:20260423T072624
CREATED:20260415T231611Z
LAST-MODIFIED:20260422T224157Z
UID:10000621-1785954600-1785960000@apexracinglab.com
SUMMARY:Trivia Night
DESCRIPTION:Every Wednesday Night\nHosted by Anthony Palladino of Set the Bar Services \n  \nTest your knowledge\, enjoy friendly competition\, and play for prizes! Trivia is free to play and open to all! \n  \nAll day long\, enjoy $4 Hard Ciders and NC Beers. \n  \nGrab your team\, sip something great\, and set the bar for a fun night out! \n  \nWant to make a full night of it? Guests are welcome to come early and book a sim to play before trivia begins!\nNOTE: Reserving a sim is not required to attend trivia.
URL:https://apexracinglab.com/event/trivia-night/2026-08-05/
LOCATION:Apex Racing Lab\, 107 Edinburgh S Dr.\, Suite 106E\, Cary\, NC\, 27511\, United States
CATEGORIES:Trivia Nights
ORGANIZER;CN="Set the Bar Services":MAILTO:setthebarnc@gmail.com
END:VEVENT
BEGIN:VEVENT
DTSTART;TZID=America/New_York:20260812T183000
DTEND;TZID=America/New_York:20260812T200000
DTSTAMP:20260423T072624
CREATED:20260415T231611Z
LAST-MODIFIED:20260422T224157Z
UID:10000622-1786559400-1786564800@apexracinglab.com
SUMMARY:Trivia Night
DESCRIPTION:Every Wednesday Night\nHosted by Anthony Palladino of Set the Bar Services \n  \nTest your knowledge\, enjoy friendly competition\, and play for prizes! Trivia is free to play and open to all! \n  \nAll day long\, enjoy $4 Hard Ciders and NC Beers. \n  \nGrab your team\, sip something great\, and set the bar for a fun night out! \n  \nWant to make a full night of it? Guests are welcome to come early and book a sim to play before trivia begins!\nNOTE: Reserving a sim is not required to attend trivia.
URL:https://apexracinglab.com/event/trivia-night/2026-08-12/
LOCATION:Apex Racing Lab\, 107 Edinburgh S Dr.\, Suite 106E\, Cary\, NC\, 27511\, United States
CATEGORIES:Trivia Nights
ORGANIZER;CN="Set the Bar Services":MAILTO:setthebarnc@gmail.com
END:VEVENT
BEGIN:VEVENT
DTSTART;TZID=America/New_York:20260819T183000
DTEND;TZID=America/New_York:20260819T200000
DTSTAMP:20260423T072624
CREATED:20260415T231611Z
LAST-MODIFIED:20260422T224157Z
UID:10000623-1787164200-1787169600@apexracinglab.com
SUMMARY:Trivia Night
DESCRIPTION:Every Wednesday Night\nHosted by Anthony Palladino of Set the Bar Services \n  \nTest your knowledge\, enjoy friendly competition\, and play for prizes! Trivia is free to play and open to all! \n  \nAll day long\, enjoy $4 Hard Ciders and NC Beers. \n  \nGrab your team\, sip something great\, and set the bar for a fun night out! \n  \nWant to make a full night of it? Guests are welcome to come early and book a sim to play before trivia begins!\nNOTE: Reserving a sim is not required to attend trivia.
URL:https://apexracinglab.com/event/trivia-night/2026-08-19/
LOCATION:Apex Racing Lab\, 107 Edinburgh S Dr.\, Suite 106E\, Cary\, NC\, 27511\, United States
CATEGORIES:Trivia Nights
ORGANIZER;CN="Set the Bar Services":MAILTO:setthebarnc@gmail.com
END:VEVENT
BEGIN:VEVENT
DTSTART;TZID=America/New_York:20260823T084500
DTEND;TZID=America/New_York:20260823T110000
DTSTAMP:20260423T072624
CREATED:20260225T204231Z
LAST-MODIFIED:20260225T204350Z
UID:10000053-1787474700-1787482800@apexracinglab.com
SUMMARY:F1 Watch Party: Dutch Grand Prix
DESCRIPTION:Race Start Time: 9 AM \nTrack: Circuit Zandvoort\n \nWatch the Formula 1 Heineken Dutch Grand Prix LIVE with other F1 fans\, then hop into our simulators and tackle the same track! \nWe’ve got every track on the current F1 calendar…and maybe even a few bonus tracks\, if you’re feeling ambitious. \nAt check-in\, ask our crew how you can create a free driver profile\, see your name on our leaderboard\, and get your lap times emailed to you. \nFollow us on Instagram and Facebook for event details and updates as race day gets closer. \nAll skill levels welcome. \nReserve Your Sim
URL:https://apexracinglab.com/event/f1-watch-party-dutch-grand-prix/
LOCATION:Apex Racing Lab\, 107 Edinburgh S Dr.\, Suite 106E\, Cary\, NC\, 27511\, United States
CATEGORIES:Special Events,Watch Parties
END:VEVENT
BEGIN:VEVENT
DTSTART;TZID=America/New_York:20260826T183000
DTEND;TZID=America/New_York:20260826T200000
DTSTAMP:20260423T072624
CREATED:20260415T231611Z
LAST-MODIFIED:20260422T224157Z
UID:10000624-1787769000-1787774400@apexracinglab.com
SUMMARY:Trivia Night
DESCRIPTION:Every Wednesday Night\nHosted by Anthony Palladino of Set the Bar Services \n  \nTest your knowledge\, enjoy friendly competition\, and play for prizes! Trivia is free to play and open to all! \n  \nAll day long\, enjoy $4 Hard Ciders and NC Beers. \n  \nGrab your team\, sip something great\, and set the bar for a fun night out! \n  \nWant to make a full night of it? Guests are welcome to come early and book a sim to play before trivia begins!\nNOTE: Reserving a sim is not required to attend trivia.
URL:https://apexracinglab.com/event/trivia-night/2026-08-26/
LOCATION:Apex Racing Lab\, 107 Edinburgh S Dr.\, Suite 106E\, Cary\, NC\, 27511\, United States
CATEGORIES:Trivia Nights
ORGANIZER;CN="Set the Bar Services":MAILTO:setthebarnc@gmail.com
END:VEVENT
END:VCALENDAR