BEGIN:VCALENDAR
VERSION:2.0
PRODID:-//Apex Racing Lab - ECPv6.15.20//NONSGML v1.0//EN
CALSCALE:GREGORIAN
METHOD:PUBLISH
X-WR-CALNAME:Apex Racing Lab
X-ORIGINAL-URL:https://apexracinglab.com
X-WR-CALDESC:Events for Apex Racing Lab
REFRESH-INTERVAL;VALUE=DURATION:PT1H
X-Robots-Tag:noindex
X-PUBLISHED-TTL:PT1H
BEGIN:VTIMEZONE
TZID:America/New_York
BEGIN:DAYLIGHT
TZOFFSETFROM:-0500
TZOFFSETTO:-0400
TZNAME:EDT
DTSTART:20250309T070000
END:DAYLIGHT
BEGIN:STANDARD
TZOFFSETFROM:-0400
TZOFFSETTO:-0500
TZNAME:EST
DTSTART:20251102T060000
END:STANDARD
BEGIN:DAYLIGHT
TZOFFSETFROM:-0500
TZOFFSETTO:-0400
TZNAME:EDT
DTSTART:20260308T070000
END:DAYLIGHT
BEGIN:STANDARD
TZOFFSETFROM:-0400
TZOFFSETTO:-0500
TZNAME:EST
DTSTART:20261101T060000
END:STANDARD
BEGIN:DAYLIGHT
TZOFFSETFROM:-0500
TZOFFSETTO:-0400
TZNAME:EDT
DTSTART:20270314T070000
END:DAYLIGHT
BEGIN:STANDARD
TZOFFSETFROM:-0400
TZOFFSETTO:-0500
TZNAME:EST
DTSTART:20271107T060000
END:STANDARD
END:VTIMEZONE
BEGIN:VEVENT
DTSTART;TZID=America/New_York:20260902T183000
DTEND;TZID=America/New_York:20260902T200000
DTSTAMP:20260423T084549
CREATED:20260415T231611Z
LAST-MODIFIED:20260422T224157Z
UID:10000625-1788373800-1788379200@apexracinglab.com
SUMMARY:Trivia Night
DESCRIPTION:Every Wednesday Night\nHosted by Anthony Palladino of Set the Bar Services \n  \nTest your knowledge\, enjoy friendly competition\, and play for prizes! Trivia is free to play and open to all! \n  \nAll day long\, enjoy $4 Hard Ciders and NC Beers. \n  \nGrab your team\, sip something great\, and set the bar for a fun night out! \n  \nWant to make a full night of it? Guests are welcome to come early and book a sim to play before trivia begins!\nNOTE: Reserving a sim is not required to attend trivia.
URL:https://apexracinglab.com/event/trivia-night/2026-09-02/
LOCATION:Apex Racing Lab\, 107 Edinburgh S Dr.\, Suite 106E\, Cary\, NC\, 27511\, United States
CATEGORIES:Trivia Nights
ORGANIZER;CN="Set the Bar Services":MAILTO:setthebarnc@gmail.com
END:VEVENT
BEGIN:VEVENT
DTSTART;TZID=America/New_York:20260906T084500
DTEND;TZID=America/New_York:20260906T110000
DTSTAMP:20260423T084549
CREATED:20260225T205645Z
LAST-MODIFIED:20260225T205645Z
UID:10000054-1788684300-1788692400@apexracinglab.com
SUMMARY:F1 Watch Party: Italian Grand Prix
DESCRIPTION:Race Start Time: 9 AM \nTrack: Autodromo Nazionale Monza \nWatch the Formula 1 Pirelli Gran Premio D’Italia LIVE with other F1 fans\, then hop into our simulators and tackle the same track! \nWe’ve got every track on the current F1 calendar…and maybe even a few bonus tracks\, if you’re feeling ambitious. \nAt check-in\, ask our crew how you can create a free driver profile\, see your name on our leaderboard\, and get your lap times emailed to you. \nFollow us on Instagram and Facebook for event details and updates as race day gets closer. \nAll skill levels welcome. \nReserve Your Sim
URL:https://apexracinglab.com/event/f1-watch-party-italian-grand-prix/
LOCATION:Apex Racing Lab\, 107 Edinburgh S Dr.\, Suite 106E\, Cary\, NC\, 27511\, United States
CATEGORIES:Special Events,Watch Parties
END:VEVENT
BEGIN:VEVENT
DTSTART;TZID=America/New_York:20260909T183000
DTEND;TZID=America/New_York:20260909T200000
DTSTAMP:20260423T084549
CREATED:20260415T231611Z
LAST-MODIFIED:20260422T224157Z
UID:10000626-1788978600-1788984000@apexracinglab.com
SUMMARY:Trivia Night
DESCRIPTION:Every Wednesday Night\nHosted by Anthony Palladino of Set the Bar Services \n  \nTest your knowledge\, enjoy friendly competition\, and play for prizes! Trivia is free to play and open to all! \n  \nAll day long\, enjoy $4 Hard Ciders and NC Beers. \n  \nGrab your team\, sip something great\, and set the bar for a fun night out! \n  \nWant to make a full night of it? Guests are welcome to come early and book a sim to play before trivia begins!\nNOTE: Reserving a sim is not required to attend trivia.
URL:https://apexracinglab.com/event/trivia-night/2026-09-09/
LOCATION:Apex Racing Lab\, 107 Edinburgh S Dr.\, Suite 106E\, Cary\, NC\, 27511\, United States
CATEGORIES:Trivia Nights
ORGANIZER;CN="Set the Bar Services":MAILTO:setthebarnc@gmail.com
END:VEVENT
BEGIN:VEVENT
DTSTART;TZID=America/New_York:20260913T084500
DTEND;TZID=America/New_York:20260913T110000
DTSTAMP:20260423T084549
CREATED:20260225T210335Z
LAST-MODIFIED:20260225T211945Z
UID:10000055-1789289100-1789297200@apexracinglab.com
SUMMARY:F1 Watch Party: Spanish Grand Prix
DESCRIPTION:Race Start Time: 9 AM \nTrack: Madring \nWatch the Formula 1 Tag Heuer Gran Premio de España LIVE with other F1 fans\, then hop into our simulators and tackle the same track! \nWe’ve got every track on the current F1 calendar…and maybe even a few bonus tracks\, if you’re feeling ambitious. \nAt check-in\, ask our crew how you can create a free driver profile\, see your name on our leaderboard\, and get your lap times emailed to you. \nFollow us on Instagram and Facebook for event details and updates as race day gets closer. \nAll skill levels welcome. \nReserve Your Sim
URL:https://apexracinglab.com/event/f1-watch-party-spanish-grand-prix/
LOCATION:Apex Racing Lab\, 107 Edinburgh S Dr.\, Suite 106E\, Cary\, NC\, 27511\, United States
CATEGORIES:Special Events,Watch Parties
END:VEVENT
BEGIN:VEVENT
DTSTART;TZID=America/New_York:20260916T183000
DTEND;TZID=America/New_York:20260916T200000
DTSTAMP:20260423T084549
CREATED:20260415T231611Z
LAST-MODIFIED:20260422T224157Z
UID:10000627-1789583400-1789588800@apexracinglab.com
SUMMARY:Trivia Night
DESCRIPTION:Every Wednesday Night\nHosted by Anthony Palladino of Set the Bar Services \n  \nTest your knowledge\, enjoy friendly competition\, and play for prizes! Trivia is free to play and open to all! \n  \nAll day long\, enjoy $4 Hard Ciders and NC Beers. \n  \nGrab your team\, sip something great\, and set the bar for a fun night out! \n  \nWant to make a full night of it? Guests are welcome to come early and book a sim to play before trivia begins!\nNOTE: Reserving a sim is not required to attend trivia.
URL:https://apexracinglab.com/event/trivia-night/2026-09-16/
LOCATION:Apex Racing Lab\, 107 Edinburgh S Dr.\, Suite 106E\, Cary\, NC\, 27511\, United States
CATEGORIES:Trivia Nights
ORGANIZER;CN="Set the Bar Services":MAILTO:setthebarnc@gmail.com
END:VEVENT
BEGIN:VEVENT
DTSTART;TZID=America/New_York:20260923T183000
DTEND;TZID=America/New_York:20260923T200000
DTSTAMP:20260423T084549
CREATED:20260415T231611Z
LAST-MODIFIED:20260422T224157Z
UID:10000628-1790188200-1790193600@apexracinglab.com
SUMMARY:Trivia Night
DESCRIPTION:Every Wednesday Night\nHosted by Anthony Palladino of Set the Bar Services \n  \nTest your knowledge\, enjoy friendly competition\, and play for prizes! Trivia is free to play and open to all! \n  \nAll day long\, enjoy $4 Hard Ciders and NC Beers. \n  \nGrab your team\, sip something great\, and set the bar for a fun night out! \n  \nWant to make a full night of it? Guests are welcome to come early and book a sim to play before trivia begins!\nNOTE: Reserving a sim is not required to attend trivia.
URL:https://apexracinglab.com/event/trivia-night/2026-09-23/
LOCATION:Apex Racing Lab\, 107 Edinburgh S Dr.\, Suite 106E\, Cary\, NC\, 27511\, United States
CATEGORIES:Trivia Nights
ORGANIZER;CN="Set the Bar Services":MAILTO:setthebarnc@gmail.com
END:VEVENT
BEGIN:VEVENT
DTSTART;TZID=America/New_York:20260926T064500
DTEND;TZID=America/New_York:20260926T090000
DTSTAMP:20260423T084549
CREATED:20260227T152511Z
LAST-MODIFIED:20260227T152600Z
UID:10000056-1790405100-1790413200@apexracinglab.com
SUMMARY:F1 Watch Party: Azerbaijan Grand Prix
DESCRIPTION:Race Start Time: 7 AM \nTrack: Baku City Circuit \nWatch the Formula 1 Qatar Airways Azerbaijan Grand Prix LIVE with other F1 fans\, then hop into our simulators and tackle the same track! \nWe’ve got every track on the current F1 calendar…and maybe even a few bonus tracks\, if you’re feeling ambitious. \nAt check-in\, ask our crew how you can create a free driver profile\, see your name on our leaderboard\, and get your lap times emailed to you. \nFollow us on Instagram and Facebook for event details and updates as race day gets closer. \nAll skill levels welcome. \nReserve Your Sim
URL:https://apexracinglab.com/event/f1-watch-party-azerbaijan-grand-prix/
LOCATION:Apex Racing Lab\, 107 Edinburgh S Dr.\, Suite 106E\, Cary\, NC\, 27511\, United States
CATEGORIES:Special Events,Watch Parties
END:VEVENT
BEGIN:VEVENT
DTSTART;TZID=America/New_York:20260930T183000
DTEND;TZID=America/New_York:20260930T200000
DTSTAMP:20260423T084549
CREATED:20260415T231611Z
LAST-MODIFIED:20260422T224157Z
UID:10000629-1790793000-1790798400@apexracinglab.com
SUMMARY:Trivia Night
DESCRIPTION:Every Wednesday Night\nHosted by Anthony Palladino of Set the Bar Services \n  \nTest your knowledge\, enjoy friendly competition\, and play for prizes! Trivia is free to play and open to all! \n  \nAll day long\, enjoy $4 Hard Ciders and NC Beers. \n  \nGrab your team\, sip something great\, and set the bar for a fun night out! \n  \nWant to make a full night of it? Guests are welcome to come early and book a sim to play before trivia begins!\nNOTE: Reserving a sim is not required to attend trivia.
URL:https://apexracinglab.com/event/trivia-night/2026-09-30/
LOCATION:Apex Racing Lab\, 107 Edinburgh S Dr.\, Suite 106E\, Cary\, NC\, 27511\, United States
CATEGORIES:Trivia Nights
ORGANIZER;CN="Set the Bar Services":MAILTO:setthebarnc@gmail.com
END:VEVENT
END:VCALENDAR